BEGIN:VCALENDAR
VERSION:2.0
PRODID:http://www.egotec.com/
METHOD:PUBLISH
BEGIN:VTIMEZONE
X-LIC-LOCATION:Europe/Berlin
TZID:Europe/Berlin
END:VTIMEZONE
BEGIN:VEVENT
CREATED:20260401T081649Z
SUMMARY:Optimal Management of Renewable Energy Systems under Uncertainty: A Quantization-Based Approach
DTSTART:20260430T121500Z
DTEND:20260530T140000Z
LOCATION:SR 1086, Inselplatz 5, Jena
DESCRIPTION:Optimal Management of Renewable Energy Systems under Uncertainty: A Quantization-Based Approach\n\nDr. Paul Honoré Takam\n\nhttps://www.fmi.uni-jena.de/41250/2026-04-30
END:VEVENT
END:VCALENDAR
