BEGIN:VCALENDAR
VERSION:2.0
PRODID:http://www.egotec.com/
METHOD:PUBLISH
BEGIN:VTIMEZONE
X-LIC-LOCATION:Europe/Berlin
TZID:Europe/Berlin
END:VTIMEZONE
BEGIN:VEVENT
CREATED:20260420T084412Z
SUMMARY:Overcoming the spatial order barrier for nonlinear SPDEs with additive space-time white noise
DTSTART:20260507T121500Z
DTEND:20260507T140000Z
LOCATION:SR 1086, Inselplatz 5, Jena
DESCRIPTION:Overcoming the spatial order barrier for nonlinear SPDEs with additive space-time white noise\n\nDr. Helena Katharina Kremp\n\nhttps://www.fmi.uni-jena.de/41338/2026-05-07
END:VEVENT
END:VCALENDAR
